BEGIN:VCALENDAR
VERSION:2.0
PRODID:-//Chater Community Choir - A Community Choir based in Rutland - ECPv6.0.11//NONSGML v1.0//EN
CALSCALE:GREGORIAN
METHOD:PUBLISH
X-WR-CALNAME:Chater Community Choir - A Community Choir based in Rutland
X-ORIGINAL-URL:http://chaterchoir.org.uk
X-WR-CALDESC:Events for Chater Community Choir - A Community Choir based in Rutland
REFRESH-INTERVAL;VALUE=DURATION:PT1H
X-Robots-Tag:noindex
X-PUBLISHED-TTL:PT1H
BEGIN:VTIMEZONE
TZID:Europe/London
BEGIN:DAYLIGHT
TZOFFSETFROM:+0000
TZOFFSETTO:+0100
TZNAME:BST
DTSTART:20220327T010000
END:DAYLIGHT
BEGIN:STANDARD
TZOFFSETFROM:+0100
TZOFFSETTO:+0000
TZNAME:GMT
DTSTART:20221030T010000
END:STANDARD
END:VTIMEZONE
BEGIN:VEVENT
DTSTART;TZID=Europe/London:20221224T180000
DTEND;TZID=Europe/London:20221224T190000
DTSTAMP:20260422T220504
CREATED:20220829T151840Z
LAST-MODIFIED:20220829T152121Z
UID:1402-1671904800-1671908400@chaterchoir.org.uk
SUMMARY:Carol Singing at The Fox
DESCRIPTION:
URL:http://chaterchoir.org.uk/event/carol-singing-at-the-fox-2/
LOCATION:The Fox\, North Luffenham\, 1 Pinfold Lane\,\,  North Luffenham\, Rutland\, LE15 8LE\, United Kingdom
CATEGORIES:Calendar,Concerts
END:VEVENT
END:VCALENDAR